Workbook
Name _Hlk124933947: WF0CXXTTRCPU05891!#REF!
Name _Hlk124934082: WF0CXXTTRCPU05891!$B$22
Name _Hlk125446381: WF0CXXTTRCPU05891!#REF!
Name _Hlk125524373: WF0CXXTTRCPU05891!#REF!
Name _Hlk125694404: WF0CXXTTRCPU05891!#REF!

Sheet WF0CXXTTRCPU05891
B1: FORMULARZ ASORTYMENTOWO CENOWY - Części zamienne i eksploatacyjne do samochodów osobowych i dostawczych Załącznik nr 1a do SWZ
B2: Ford Transit nr VIN: WF0CXXTTRCPU05891
B3: Lp. | C3: Nazwa asortymentu. | D3: J.m. | E3: Minimalna wymagana klasa jakości. | F3: Szacowana ilość roczna | G3: Cena jedn. netto w zł za 1 szt. | H3: Stawka podatku VAT w % | I3: Cena jedn. brutto w zł za 1szt. | J3: Wartość brutto pozycji = ilość × cena jednostkowa brutto zł. | K3: Producent oferowanego produktu* | L3: Pełna nazwa handlowa oferowanego produktu* | M3: Numer katalogowy / indeks produktu / inne oznaczenie producenta*
B4: A | C4: B | D4: C | E4: D | F4: E | G4: G | H4: H | I4: I | J4: J | K4: K | L4: L | M4: M
B5: 1. | C5: Akumulator | D5: szt. | E5: OEM | F5: 1 | I5: =G5+(G5*H5) -> 0 | J5: =F5*I5 -> 0
B6: 2. | C6: Felga koła | D6: szt. | E6: OEM | F6: 1 | I6: =G6+(G6*H6) -> 0 | J6: =F6*I6 -> 0
B7: 3. | C7: Filtr kabiny | D7: szt. | E7: OEM | F7: 1 | I7: =G7+(G7*H7) -> 0 | J7: =F7*I7 -> 0
B8: 4. | C8: Filtr oleju | D8: szt. | E8: OEM | F8: 1 | I8: =G8+(G8*H8) -> 0 | J8: =F8*I8 -> 0
B9: 5. | C9: Filtr paliwa | D9: szt. | E9: OEM | F9: 1 | I9: =G9+(G9*H9) -> 0 | J9: =F9*I9 -> 0
B10: 6. | C10: Filtr powietrza | D10: szt. | E10: OEM | F10: 1 | I10: =G10+(G10*H10) -> 0 | J10: =F10*I10 -> 0
B11: 7. | C11: Klocki hamulcowe przedniej osi | D11: kpl. | E11: OEM | F11: 1 | I11: =G11+(G11*H11) -> 0 | J11: =F11*I11 -> 0
B12: 8. | C12: Klocki hamulcowe tylnej osi | D12: kpl. | E12: OEM | F12: 1 | I12: =G12+(G12*H12) -> 0 | J12: =F12*I12 -> 0
B13: 9. | C13: Klosz lampy tylnej lewej | D13: szt. | E13: OEM | F13: 1 | I13: =G13+(G13*H13) -> 0 | J13: =F13*I13 -> 0
B14: 10. | C14: Klosz lampy tylnej prawej | D14: szt. | E14: OEM | F14: 1 | I14: =G14+(G14*H14) -> 0 | J14: =F14*I14 -> 0
B15: 11. | C15: Końcówka drążka kierowniczego L | D15: szt. | E15: OEM | F15: 1 | I15: =G15+(G15*H15) -> 0 | J15: =F15*I15 -> 0
B16: 12. | C16: Końcówka drążka kierowniczego P | D16: szt. | E16: OEM | F16: 1 | I16: =G16+(G16*H16) -> 0 | J16: =F16*I16 -> 0
... B34: 30. | C34: Zacisk hamulcowy przód prawy | D34: szt. | E34: OEM | F34: 1 | I34: =G34+(G34*H34) -> 0 | J34: =F34*I34 -> 0
I35: Suma: | J35: =SUM(J5:J34) -> 0
B38: * Wykonawca wskazuje dla każdej pozycji producenta oferowanej części, jej pełną nazwę handlową oraz numer katalogowy, indeks lub inne jednoznaczne oznaczenie nadane przez producenta oferowanego produktu. Jeżeli część posiada numer OE albo odpowiada określonemu numerowi referencyjnemu producenta pojazdu, Wykonawca podaje ten numer dodatkowo. Numer OE lub numer referencyjny producenta pojazdu nie zastępuje numeru katalogowego oferowanego produktu, chyba że jest jednocześnie numerem katalogowym tego produktu.

Sheet WF0CXXTTRCSJ33095
B1: FORMULARZ ASORTYMENTOWO CENOWY - Części zamienne i eksploatacyjne do samochodów osobowych i dostawczych Załącznik nr 1a do SWZ
B2: Ford Transit nr VIN: WF0CXXTTRCSJ33095
B3: Lp. | C3: Nazwa asortymentu. | D3: J.m. | E3: Minimalna wymagana klasa jakości. | F3: Szacowana ilość roczna | G3: Cena jedn. netto zł za 1 szt. | H3: Stawka podatku VAT w % | I3: Cena jedn. brutto zł za 1szt. | J3: Wartość brutto pozycji = ilość × cena jednostkowa brutto zł | K3: Producent oferowanego produktu* | L3: Pełna nazwa handlowa oferowanego produktu* | M3: Numer katalogowy / indeks produktu / inne oznaczenie producenta*
B4: A | C4: B | D4: C | E4: D | F4: E | G4: G | H4: H | I4: I | J4: J | K4: K | L4: L | M4: M
B5: 1. | C5: Akumulator | D5: szt. | E5: OEM | F5: 1 | I5: =G5+(G5*H5) -> 0 | J5: =F5*I5 -> 0
B6: 2. | C6: Felga koła | D6: szt. | E6: OEM | F6: 1 | I6: =G6+(G6*H6) -> 0 | J6: =F6*I6 -> 0
B7: 3. | C7: Filtr kabiny | D7: szt. | E7: OEM | F7: 1 | I7: =G7+(G7*H7) -> 0 | J7: =F7*I7 -> 0
B8: 4. | C8: Filtr oleju | D8: szt. | E8: OEM | F8: 1 | I8: =G8+(G8*H8) -> 0 | J8: =F8*I8 -> 0
B9: 5. | C9: Filtr paliwa | D9: szt. | E9: OEM | F9: 1 | I9: =G9+(G9*H9) -> 0 | J9: =F9*I9 -> 0
B10: 6. | C10: Filtr powietrza | D10: szt. | E10: OEM | F10: 1 | I10: =G10+(G10*H10) -> 0 | J10: =F10*I10 -> 0
B11: 7. | C11: Klocki hamulcowe przedniej osi | D11: kpl. | E11: OEM | F11: 1 | I11: =G11+(G11*H11) -> 0 | J11: =F11*I11 -> 0
B12: 8. | C12: Klocki hamulcowe tylnej osi | D12: kpl. | E12: OEM | F12: 1 | I12: =G12+(G12*H12) -> 0 | J12: =F12*I12 -> 0
B13: 9. | C13: Klosz lampy tylnej lewej | D13: szt. | E13: OEM | F13: 1 | I13: =G13+(G13*H13) -> 0 | J13: =F13*I13 -> 0
B14: 10. | C14: Klosz lampy tylnej prawej | D14: szt. | E14: OEM | F14: 1 | I14: =G14+(G14*H14) -> 0 | J14: =F14*I14 -> 0
B15: 11. | C15: Końcówka drążka kierowniczego L | D15: szt. | E15: OEM | F15: 1 | I15: =G15+(G15*H15) -> 0 | J15: =F15*I15 -> 0
B16: 12. | C16: Końcówka drążka kierowniczego P | D16: szt. | E16: OEM | F16: 1 | I16: =G16+(G16*H16) -> 0 | J16: =F16*I16 -> 0
... B34: 30. | C34: Zacisk hamulcowy przód prawy | D34: szt. | E34: OEM | F34: 1 | I34: =G34+(G34*H34) -> 0 | J34: =F34*I34 -> 0
I35: Suma: | J35: =SUM(J5:J34) -> 0
B38: * Wykonawca wskazuje dla każdej pozycji producenta oferowanej części, jej pełną nazwę handlową oraz numer katalogowy, indeks lub inne jednoznaczne oznaczenie nadane przez producenta oferowanego produktu. Jeżeli część posiada numer OE albo odpowiada określonemu numerowi referencyjnemu producenta pojazdu, Wykonawca podaje ten numer dodatkowo. Numer OE lub numer referencyjny producenta pojazdu nie zastępuje numeru katalogowego oferowanego produktu, chyba że jest jednocześnie numerem katalogowym tego produktu.

Sheet WV3ZZZSZ5P9014668
B1: FORMULARZ ASORTYMENTOWO CENOWY - Części zamienne i eksploatacyjne do samochodów osobowych i dostawczych Załącznik nr 1a do SWZ
B2: VW Crafter nr VIN: WV3ZZZSZ5P9014668
B3: Lp. | C3: Nazwa asortymentu. | D3: J.m. | E3: Minimalna wymagana klasa jakości. | F3: Szacowana ilość roczna | G3: Cena jedn. netto zł za 1 szt. | H3: Stawka podatku VAT w % | I3: Cena jedn. brutto zł za 1szt. | J3: Wartość brutto pozycji = ilość × cena jednostkowa brutto zł. | K3: Producent oferowanego produktu* | L3: Pełna nazwa handlowa oferowanego produktu* | M3: Numer katalogowy / indeks produktu / inne oznaczenie producenta*
B4: A | C4: B | D4: C | E4: D | F4: E | G4: G | H4: H | I4: I | J4: J | K4: K | L4: L | M4: M
B5: 1. | C5: Akumulator | D5: szt. | E5: OEM | F5: 1 | I5: =G5+(G5*H5) -> 0 | J5: =F5*I5 -> 0
B6: 2. | C6: Felga koła | D6: szt. | E6: OEM | F6: 1 | I6: =G6+(G6*H6) -> 0 | J6: =F6*I6 -> 0
B7: 3. | C7: Filtr kabiny | D7: szt. | E7: OEM | F7: 1 | I7: =G7+(G7*H7) -> 0 | J7: =F7*I7 -> 0
B8: 4. | C8: Filtr oleju | D8: szt. | E8: OEM | F8: 1 | I8: =G8+(G8*H8) -> 0 | J8: =F8*I8 -> 0
B9: 5. | C9: Filtr paliwa | D9: szt. | E9: OEM | F9: 1 | I9: =G9+(G9*H9) -> 0 | J9: =F9*I9 -> 0
B10: 6. | C10: Filtr powietrza | D10: szt. | E10: OEM | F10: 1 | I10: =G10+(G10*H10) -> 0 | J10: =F10*I10 -> 0
B11: 7. | C11: Klocki hamulcowe przedniej osi | D11: kpl. | E11: OEM | F11: 1 | I11: =G11+(G11*H11) -> 0 | J11: =F11*I11 -> 0
B12: 8. | C12: Klocki hamulcowe tylnej osi | D12: kpl. | E12: OEM | F12: 1 | I12: =G12+(G12*H12) -> 0 | J12: =F12*I12 -> 0
B13: 9. | C13: Klosz lampy tylnej lewej | D13: szt. | E13: OEM | F13: 1 | I13: =G13+(G13*H13) -> 0 | J13: =F13*I13 -> 0
B14: 10. | C14: Klosz lampy tylnej prawej | D14: szt. | E14: OEM | F14: 1 | I14: =G14+(G14*H14) -> 0 | J14: =F14*I14 -> 0
B15: 11. | C15: Końcówka drążka kierowniczego L | D15: szt. | E15: OEM | F15: 1 | I15: =G15+(G15*H15) -> 0 | J15: =F15*I15 -> 0
B16: 12. | C16: Końcówka drążka kierowniczego P | D16: szt. | E16: OEM | F16: 1 | I16: =G16+(G16*H16) -> 0 | J16: =F16*I16 -> 0
... B32: 28. | C32: Zacisk hamulcowy przód prawy | D32: szt. | E32: OEM | F32: 1 | I32: =G32+(G32*H32) -> 0 | J32: =F32*I32 -> 0
I33: =G33+(G33*H33) -> 0 | J33: =F33*I33 -> 0
B37: * Wykonawca wskazuje dla każdej pozycji producenta oferowanej części, jej pełną nazwę handlową oraz numer katalogowy, indeks lub inne jednoznaczne oznaczenie nadane przez producenta oferowanego produktu. Jeżeli część posiada numer OE albo odpowiada określonemu numerowi referencyjnemu producenta pojazdu, Wykonawca podaje ten numer dodatkowo. Numer OE lub numer referencyjny producenta pojazdu nie zastępuje numeru katalogowego oferowanego produktu, chyba że jest jednocześnie numerem katalogowym tego produktu.

Sheet WV1ZZZ7JZNX011834
B1: FORMULARZ ASORTYMENTOWO CENOWY - Części zamienne i eksploatacyjne do samochodów osobowych i dostawczych Załącznik nr 1a do SWZ
B2: VW Transporter nr VIN: WV1ZZZ7JZNX011834
B3: Lp. | C3: Nazwa asortymentu. | D3: J.m. | E3: Minimalna wymagana klasa jakości. | F3: Szacowana ilość roczna | G3: Cena jedn. netto zł za 1 szt. | H3: Stawka podatku VAT w % | I3: Cena jedn. brutto zł za 1szt. | J3: Wartość brutto pozycji = ilość × cena jednostkowa brutto zł. | K3: Producent oferowanego produktu* | L3: Pełna nazwa handlowa oferowanego produktu* | M3: Numer katalogowy / indeks produktu / inne oznaczenie producenta*
B4: A | C4: B | D4: C | E4: D | F4: E | G4: G | H4: H | I4: I | J4: J | K4: K | L4: L | M4: M
B5: 1. | C5: Akumulator | D5: szt. | E5: OEM | F5: 1 | I5: =G5+(G5*H5) -> 0 | J5: =F5*I5 -> 0
B6: 2. | C6: Felga koła | D6: szt. | E6: OEM | F6: 1 | I6: =G6+(G6*H6) -> 0 | J6: =F6*I6 -> 0
B7: 3. | C7: Filtr kabiny | D7: szt. | E7: OEM | F7: 1 | I7: =G7+(G7*H7) -> 0 | J7: =F7*I7 -> 0
B8: 4. | C8: Filtr oleju | D8: szt. | E8: OEM | F8: 1 | I8: =G8+(G8*H8) -> 0 | J8: =F8*I8 -> 0
B9: 5. | C9: Filtr paliwa | D9: szt. | E9: OEM | F9: 1 | I9: =G9+(G9*H9) -> 0 | J9: =F9*I9 -> 0
B10: 6. | C10: Filtr powietrza | D10: szt. | E10: OEM | F10: 1 | I10: =G10+(G10*H10) -> 0 | J10: =F10*I10 -> 0
B11: 7. | C11: Klocki hamulcowe przedniej osi | D11: kpl. | E11: OEM | F11: 1 | I11: =G11+(G11*H11) -> 0 | J11: =F11*I11 -> 0
B12: 8. | C12: Klocki hamulcowe tylnej osi | D12: kpl. | E12: OEM | F12: 1 | I12: =G12+(G12*H12) -> 0 | J12: =F12*I12 -> 0
B13: 9. | C13: Klosz lampy tylnej lewej | D13: szt. | E13: OEM | F13: 1 | I13: =G13+(G13*H13) -> 0 | J13: =F13*I13 -> 0
B14: 10. | C14: Klosz lampy tylnej prawej | D14: szt. | E14: OEM | F14: 1 | I14: =G14+(G14*H14) -> 0 | J14: =F14*I14 -> 0
B15: 11. | C15: Końcówka drążka kierowniczego L | D15: szt. | E15: OEM | F15: 1 | I15: =G15+(G15*H15) -> 0 | J15: =F15*I15 -> 0
B16: 12. | C16: Końcówka drążka kierowniczego P | D16: szt. | E16: OEM | F16: 1 | I16: =G16+(G16*H16) -> 0 | J16: =F16*I16 -> 0
... B32: 28. | C32: Zacisk hamulcowy przód prawy | D32: szt. | E32: OEM | F32: 1 | I32: =G32+(G32*H32) -> 0 | J32: =F32*I32 -> 0
I33: =G33+(G33*H33) -> 0 | J33: =F33*I33 -> 0
B37: * Wykonawca wskazuje dla każdej pozycji producenta oferowanej części, jej pełną nazwę handlową oraz numer katalogowy, indeks lub inne jednoznaczne oznaczenie nadane przez producenta oferowanego produktu. Jeżeli część posiada numer OE albo odpowiada określonemu numerowi referencyjnemu producenta pojazdu, Wykonawca podaje ten numer dodatkowo. Numer OE lub numer referencyjny producenta pojazdu nie zastępuje numeru katalogowego oferowanego produktu, chyba że jest jednocześnie numerem katalogowym tego produktu.

Sheet ZFA25000002061568
B1: FORMULARZ ASORTYMENTOWO CENOWY - Części zamienne i eksploatacyjne do samochodów osobowych i dostawczych Załącznik nr 1a do SWZ
B2: FIAT Ducato nr VIN: ZFA25000002061568
B3: Lp. | C3: Nazwa asortymentu. | D3: J.m. | E3: Minimalna wymagana klasa jakości. | F3: Szacowana ilość roczna | G3: Cena jedn. netto zł za 1 szt. | H3: Stawka podatku VAT w % | I3: Cena jedn. brutto zł za 1szt. | J3: Wartość brutto pozycji = ilość × cena jednostkowa brutto zł. | K3: Producent oferowanego produktu* | L3: Pełna nazwa handlowa oferowanego produktu* | M3: Numer katalogowy / indeks produktu / inne oznaczenie producenta*
B4: A | C4: B | D4: C | E4: D | F4: E | G4: G | H4: H | I4: I | J4: J | K4: K | L4: L | M4: M
B5: 1. | C5: Akumulator | D5: szt. | E5: OEM | F5: 1 | I5: =G5+(G5*H5) -> 0 | J5: =F5*I5 -> 0
B6: 2. | C6: Felga koła | D6: szt. | E6: OEM | F6: 1 | I6: =G6+(G6*H6) -> 0 | J6: =F6*I6 -> 0
B7: 3. | C7: Filtr kabiny | D7: szt. | E7: OEM | F7: 1 | I7: =G7+(G7*H7) -> 0 | J7: =F7*I7 -> 0
B8: 4. | C8: Filtr oleju | D8: szt. | E8: OEM | F8: 1 | I8: =G8+(G8*H8) -> 0 | J8: =F8*I8 -> 0
B9: 5. | C9: Filtr paliwa | D9: szt. | E9: OEM | F9: 1 | I9: =G9+(G9*H9) -> 0 | J9: =F9*I9 -> 0
B10: 6. | C10: Filtr powietrza | D10: szt. | E10: OEM | F10: 1 | I10: =G10+(G10*H10) -> 0 | J10: =F10*I10 -> 0
B11: 7. | C11: Klocki hamulcowe przedniej osi | D11: kpl. | E11: OEM | F11: 1 | I11: =G11+(G11*H11) -> 0 | J11: =F11*I11 -> 0
B12: 8. | C12: Klocki hamulcowe tylnej osi | D12: kpl. | E12: OEM | F12: 1 | I12: =G12+(G12*H12) -> 0 | J12: =F12*I12 -> 0
B13: 9. | C13: Klosz lampy tylnej lewej | D13: szt. | E13: OEM | F13: 1 | I13: =G13+(G13*H13) -> 0 | J13: =F13*I13 -> 0
B14: 10. | C14: Klosz lampy tylnej prawej | D14: szt. | E14: OEM | F14: 1 | I14: =G14+(G14*H14) -> 0 | J14: =F14*I14 -> 0
B15: 11. | C15: Końcówka drążka kierowniczego L | D15: szt. | E15: OEM | F15: 1 | I15: =G15+(G15*H15) -> 0 | J15: =F15*I15 -> 0
B16: 12. | C16: Końcówka drążka kierowniczego P | D16: szt. | E16: OEM | F16: 1 | I16: =G16+(G16*H16) -> 0 | J16: =F16*I16 -> 0
... B34: 30. | C34: Zacisk hamulcowy przód prawy | D34: szt. | E34: OEM | F34: 1 | I34: =G34+(G34*H34) -> 0 | J34: =F34*I34 -> 0
I35: Suma: | J35: =SUM(J5:J34) -> 0
B38: * Wykonawca wskazuje dla każdej pozycji producenta oferowanej części, jej pełną nazwę handlową oraz numer katalogowy, indeks lub inne jednoznaczne oznaczenie nadane przez producenta oferowanego produktu. Jeżeli część posiada numer OE albo odpowiada określonemu numerowi referencyjnemu producenta pojazdu, Wykonawca podaje ten numer dodatkowo. Numer OE lub numer referencyjny producenta pojazdu nie zastępuje numeru katalogowego oferowanego produktu, chyba że jest jednocześnie numerem katalogowym tego produktu.

Sheet WV1ZZZ2KZ7X054170
B1: FORMULARZ ASORTYMENTOWO CENOWY - Części zamienne i eksploatacyjne do samochodów osobowych i dostawczych Załącznik nr 1a do SWZ
B2: VW Caddy nr VIN: WV1ZZZ2KZ7X054170
B3: Lp. | C3: Nazwa asortymentu. | D3: J.m. | E3: Minimalna wymagana klasa jakości. | F3: Szacowana ilość roczna | G3: Cena jedn. netto zł za 1 szt. | H3: Stawka podatku VAT w % | I3: Cena jedn. brutto zł za 1szt. | J3: Wartość brutto pozycji = ilość × cena jednostkowa brutto zł. | K3: Producent oferowanego produktu* | L3: Pełna nazwa handlowa oferowanego produktu* | M3: Numer katalogowy / indeks produktu / inne oznaczenie producenta*
B4: A | C4: B | D4: C | E4: D | F4: E | G4: G | H4: H | I4: I | J4: J | K4: K | L4: L | M4: M
B5: 1. | C5: Akumulator | D5: szt. | E5: OEM | F5: 1 | I5: =G5+(G5*H5) -> 0 | J5: =F5*I5 -> 0
B6: 2. | C6: Felga koła | D6: szt. | E6: OEM | F6: 1 | I6: =G6+(G6*H6) -> 0 | J6: =F6*I6 -> 0
B7: 3. | C7: Filtr kabiny | D7: szt. | E7: OEM | F7: 1 | I7: =G7+(G7*H7) -> 0 | J7: =F7*I7 -> 0
B8: 4. | C8: Filtr oleju | D8: szt. | E8: OEM | F8: 1 | I8: =G8+(G8*H8) -> 0 | J8: =F8*I8 -> 0
B9: 5. | C9: Filtr paliwa | D9: szt. | E9: OEM | F9: 1 | I9: =G9+(G9*H9) -> 0 | J9: =F9*I9 -> 0
B10: 6. | C10: Filtr powietrza | D10: szt. | E10: OEM | F10: 1 | I10: =G10+(G10*H10) -> 0 | J10: =F10*I10 -> 0
B11: 7. | C11: Klocki hamulcowe przedniej osi | D11: kpl. | E11: OEM | F11: 1 | I11: =G11+(G11*H11) -> 0 | J11: =F11*I11 -> 0
B12: 8. | C12: Klocki hamulcowe tylnej osi | D12: kpl. | E12: OEM | F12: 1 | I12: =G12+(G12*H12) -> 0 | J12: =F12*I12 -> 0
B13: 9. | C13: Klosz lampy tylnej lewej | D13: szt. | E13: OEM | F13: 1 | I13: =G13+(G13*H13) -> 0 | J13: =F13*I13 -> 0
B14: 10. | C14: Klosz lampy tylnej prawej | D14: szt. | E14: OEM | F14: 1 | I14: =G14+(G14*H14) -> 0 | J14: =F14*I14 -> 0
B15: 11. | C15: Końcówka drążka kierowniczego L | D15: szt. | E15: OEM | F15: 1 | I15: =G15+(G15*H15) -> 0 | J15: =F15*I15 -> 0
B16: 12. | C16: Końcówka drążka kierowniczego P | D16: szt. | E16: OEM | F16: 1 | I16: =G16+(G16*H16) -> 0 | J16: =F16*I16 -> 0
... B33: 29. | C33: Zacisk hamulcowy przód prawy | D33: szt. | E33: OEM | F33: 1 | I33: =G33+(G33*H33) -> 0 | J33: =F33*I33 -> 0
I34: Suma: | J34: =SUM(J5:J33) -> 0
B37: * Wykonawca wskazuje dla każdej pozycji producenta oferowanej części, jej pełną nazwę handlową oraz numer katalogowy, indeks lub inne jednoznaczne oznaczenie nadane przez producenta oferowanego produktu. Jeżeli część posiada numer OE albo odpowiada określonemu numerowi referencyjnemu producenta pojazdu, Wykonawca podaje ten numer dodatkowo. Numer OE lub numer referencyjny producenta pojazdu nie zastępuje numeru katalogowego oferowanego produktu, chyba że jest jednocześnie numerem katalogowym tego produktu.

Sheet WF0DXXSK7PX020460
B1: FORMULARZ ASORTYMENTOWO CENOWY - Części zamienne i eksploatacyjne do samochodów osobowych i dostawczych Załącznik nr 1a do SWZ
B2: Ford Turneo nr VIN: WF0DXXSK7PX020460
B3: Lp. | C3: Nazwa asortymentu. | D3: J.m. | E3: Minimalna wymagana klasa jakości. | F3: Szacowana ilość roczna | G3: Cena jedn. netto zł za 1 szt. | H3: Stawka podatku VAT w % | I3: Cena jedn. brutto zł za 1szt. | J3: Wartość brutto pozycji = ilość × cena jednostkowa brutto zł. | K3: Producent oferowanego produktu* | L3: Pełna nazwa handlowa oferowanego produktu* | M3: Numer katalogowy / indeks produktu / inne oznaczenie producenta*
B4: A | C4: B | D4: C | E4: D | F4: E | G4: G | H4: H | I4: I | J4: J | K4: K | L4: L | M4: M
B5: 1. | C5: Akumulator | D5: szt. | E5: OEM | F5: 1 | I5: =G5+(G5*H5) -> 0 | J5: =F5*I5 -> 0
B6: 2. | C6: Felga koła | D6: szt. | E6: OEM | F6: 1 | I6: =G6+(G6*H6) -> 0 | J6: =F6*I6 -> 0
B7: 3. | C7: Filtr kabiny | D7: szt. | E7: OEM | F7: 1 | I7: =G7+(G7*H7) -> 0 | J7: =F7*I7 -> 0
B8: 4. | C8: Filtr oleju | D8: szt. | E8: OEM | F8: 1 | I8: =G8+(G8*H8) -> 0 | J8: =F8*I8 -> 0
B9: 5. | C9: Filtr paliwa | D9: szt. | E9: OEM | F9: 1 | I9: =G9+(G9*H9) -> 0 | J9: =F9*I9 -> 0
B10: 6. | C10: Filtr powietrza | D10: szt. | E10: OEM | F10: 1 | I10: =G10+(G10*H10) -> 0 | J10: =F10*I10 -> 0
B11: 7. | C11: Klocki hamulcowe przedniej osi | D11: kpl. | E11: OEM | F11: 1 | I11: =G11+(G11*H11) -> 0 | J11: =F11*I11 -> 0
B12: 8. | C12: Klocki hamulcowe tylnej osi | D12: kpl. | E12: OEM | F12: 1 | I12: =G12+(G12*H12) -> 0 | J12: =F12*I12 -> 0
B13: 9. | C13: Klosz lampy tylnej lewej | D13: szt. | E13: OEM | F13: 1 | I13: =G13+(G13*H13) -> 0 | J13: =F13*I13 -> 0
B14: 10. | C14: Klosz lampy tylnej prawej | D14: szt. | E14: OEM | F14: 1 | I14: =G14+(G14*H14) -> 0 | J14: =F14*I14 -> 0
B15: 11. | C15: Końcówka drążka kierowniczego L | D15: szt. | E15: OEM | F15: 1 | I15: =G15+(G15*H15) -> 0 | J15: =F15*I15 -> 0
B16: 12. | C16: Końcówka drążka kierowniczego P | D16: szt. | E16: OEM | F16: 1 | I16: =G16+(G16*H16) -> 0 | J16: =F16*I16 -> 0
... B32: 28. | C32: Zacisk hamulcowy przód prawy | D32: szt. | E32: OEM | F32: 1 | I32: =G32+(G32*H32) -> 0 | J32: =F32*I32 -> 0
I33: Suma: | J33: =SUM(J5:J32) -> 0
B36: * Wykonawca wskazuje dla każdej pozycji producenta oferowanej części, jej pełną nazwę handlową oraz numer katalogowy, indeks lub inne jednoznaczne oznaczenie nadane przez producenta oferowanego produktu. Jeżeli część posiada numer OE albo odpowiada określonemu numerowi referencyjnemu producenta pojazdu, Wykonawca podaje ten numer dodatkowo. Numer OE lub numer referencyjny producenta pojazdu nie zastępuje numeru katalogowego oferowanego produktu, chyba że jest jednocześnie numerem katalogowym tego produktu.

Sheet TMAJD81BGNJ252457
B1: FORMULARZ ASORTYMENTOWO CENOWY - Części zamienne i eksploatacyjne do samochodów osobowych i dostawczych Załącznik nr 1a do SWZ
B2: Hyundai Tuscon nr VIN: TMAJD81BGNJ252457
B3: Lp. | C3: Nazwa asortymentu. | D3: J.m. | E3: Minimalna wymagana klasa jakości. | F3: Szacowana ilość roczna | G3: Cena jedn. netto zł za 1 szt. | H3: Stawka podatku VAT w % | I3: Cena jedn. brutto zł za 1szt. | J3: Wartość brutto pozycji = ilość × cena jednostkowa brutto zł. | K3: Producent oferowanego produktu* | L3: Pełna nazwa handlowa oferowanego produktu* | M3: Numer katalogowy / indeks produktu / inne oznaczenie producenta*
B4: A | C4: B | D4: C | E4: D | F4: E | G4: G | H4: H | I4: I | J4: J | K4: K | L4: L | M4: M
B5: 1. | C5: Akumulator | D5: szt. | E5: OEM | F5: 1 | I5: =G5+(G5*H5) -> 0 | J5: =F5*I5 -> 0
B6: 2. | C6: Felga koła | D6: szt. | E6: OEM | F6: 1 | I6: =G6+(G6*H6) -> 0 | J6: =F6*I6 -> 0
B7: 3. | C7: Filtr kabiny | D7: szt. | E7: OEM | F7: 1 | I7: =G7+(G7*H7) -> 0 | J7: =F7*I7 -> 0
B8: 4. | C8: Filtr oleju | D8: szt. | E8: OEM | F8: 1 | I8: =G8+(G8*H8) -> 0 | J8: =F8*I8 -> 0
B9: 5. | C9: Filtr paliwa | D9: szt. | E9: OEM | F9: 1 | I9: =G9+(G9*H9) -> 0 | J9: =F9*I9 -> 0
B10: 6. | C10: Filtr powietrza | D10: szt. | E10: OEM | F10: 1 | I10: =G10+(G10*H10) -> 0 | J10: =F10*I10 -> 0
B11: 7. | C11: Klocki hamulcowe przedniej osi | D11: kpl. | E11: OEM | F11: 1 | I11: =G11+(G11*H11) -> 0 | J11: =F11*I11 -> 0
B12: 8. | C12: Klocki hamulcowe tylnej osi | D12: kpl. | E12: OEM | F12: 1 | I12: =G12+(G12*H12) -> 0 | J12: =F12*I12 -> 0
B13: 9. | C13: Końcówka drążka kierowniczego L | D13: szt. | E13: OEM | F13: 1 | I13: =G13+(G13*H13) -> 0 | J13: =F13*I13 -> 0
B14: 10. | C14: Końcówka drążka kierowniczego P | D14: szt. | E14: OEM | F14: 1 | I14: =G14+(G14*H14) -> 0 | J14: =F14*I14 -> 0
B15: 11. | C15: Olej silnikowy (op. 1l) | D15: op. | E15: OE | F15: 10 | I15: =G15+(G15*H15) -> 0 | J15: =F15*I15 -> 0
B16: 12. | C16: Olej skrzyni biegów (op. 1l) | D16: op. | E16: OE | F16: 10 | I16: =G16+(G16*H16) -> 0 | J16: =F16*I16 -> 0
... B25: 21. | C25: Zacisk hamulcowy przód prawy | D25: szt. | E25: OEM | F25: 1 | I25: =G25+(G25*H25) -> 0 | J25: =F25*I25 -> 0
I26: =G26+(G26*H26) -> 0 | J26: =F26*I26 -> 0
B30: * Wykonawca wskazuje dla każdej pozycji producenta oferowanej części, jej pełną nazwę handlową oraz numer katalogowy, indeks lub inne jednoznaczne oznaczenie nadane przez producenta oferowanego produktu. Jeżeli część posiada numer OE albo odpowiada określonemu numerowi referencyjnemu producenta pojazdu, Wykonawca podaje ten numer dodatkowo. Numer OE lub numer referencyjny producenta pojazdu nie zastępuje numeru katalogowego oferowanego produktu, chyba że jest jednocześnie numerem katalogowym tego produktu.

Sheet PODSUMOWANIE CZĘŚCI 2
A1: Ford Transit nr VIN: WF0CXXTTRCPU05891 | E1: =WF0CXXTTRCPU05891!J35 -> 0
A2: Ford Transit nr VIN: WF0CXXTTRCSJ33095 | E2: =WF0CXXTTRCSJ33095!J35 -> 0
A3: VW Crafter nr VIN: WV3ZZZSZ5P9014668 | E3: =WV3ZZZSZ5P9014668!J33 -> 0
A4: VW Transporter nr VIN: WV1ZZZ7JZNX011834 | E4: =WV1ZZZ7JZNX011834!J33 -> 0
A5: FIAT Ducato nr VIN: ZFA25000002061568 | E5: =ZFA25000002061568!J35 -> 0
A6: VW Caddy nr VIN: WV1ZZZ2KZ7X054170 | E6: =WV1ZZZ2KZ7X054170!J34 -> 0
A7: Ford Turneo nr VIN: WF0DXXSK7PX020460 | E7: =WF0DXXSK7PX020460!J33 -> 0
A8: Hyundai Tuscon nr VIN: TMAJD81BGNJ252457 | E8: =TMAJD81BGNJ252457!J26 -> 0
A9: Razem | E9: =SUM(E1:E8) -> 0
